BEGIN:VCALENDAR
VERSION:2.0
PRODID:-//Courthouse Center For The Arts | Southern RI&#039;s Theatre, Live Music, Arts and More! - ECPv6.15.20//NONSGML v1.0//EN
CALSCALE:GREGORIAN
METHOD:PUBLISH
X-WR-CALNAME:Courthouse Center For The Arts | Southern RI&#039;s Theatre, Live Music, Arts and More!
X-ORIGINAL-URL:https://courthousearts.org
X-WR-CALDESC:Events for Courthouse Center For The Arts | Southern RI&#039;s Theatre, Live Music, Arts and More!
REFRESH-INTERVAL;VALUE=DURATION:PT1H
X-Robots-Tag:noindex
X-PUBLISHED-TTL:PT1H
BEGIN:VTIMEZONE
TZID:America/New_York
BEGIN:DAYLIGHT
TZOFFSETFROM:-0500
TZOFFSETTO:-0400
TZNAME:EDT
DTSTART:20250309T070000
END:DAYLIGHT
BEGIN:STANDARD
TZOFFSETFROM:-0400
TZOFFSETTO:-0500
TZNAME:EST
DTSTART:20251102T060000
END:STANDARD
BEGIN:DAYLIGHT
TZOFFSETFROM:-0500
TZOFFSETTO:-0400
TZNAME:EDT
DTSTART:20260308T070000
END:DAYLIGHT
BEGIN:STANDARD
TZOFFSETFROM:-0400
TZOFFSETTO:-0500
TZNAME:EST
DTSTART:20261101T060000
END:STANDARD
BEGIN:DAYLIGHT
TZOFFSETFROM:-0500
TZOFFSETTO:-0400
TZNAME:EDT
DTSTART:20270314T070000
END:DAYLIGHT
BEGIN:STANDARD
TZOFFSETFROM:-0400
TZOFFSETTO:-0500
TZNAME:EST
DTSTART:20271107T060000
END:STANDARD
END:VTIMEZONE
BEGIN:VEVENT
DTSTART;TZID=America/New_York:20260410T193000
DTEND;TZID=America/New_York:20260410T220000
DTSTAMP:20260421T132109
CREATED:20251020T170420Z
LAST-MODIFIED:20260403T222014Z
UID:9774-1775849400-1775858400@courthousearts.org
SUMMARY:Aquarius - '60s Superband and Costume Contest 4/10/26 FRI 7:30PM
DESCRIPTION:Step into the ’67 Summer of Love and slip into the Soul Kitchen heat\, then go California Dreamin’ as Aquarius spins a kaleidoscope of ’60s hits where you Hang On Sloopy and strut in These Boots Are Made for Walkin’ before riding All Along the Watchtower. Vintage tones\, tight harmonies\, and era-correct arrangements bring garage-rock grit and psychedelic shimmer to life. \nHudson Valley–based Aquarius is a six-piece 1960s cover band featuring powerhouse lead vocalist and harmonica player Dana Page and classically trained keyboardist Dunja Von Stoddard. On rhythm guitar\, Karen Tobias brings a unique musical journey from classical violin and piano to the driving pulse of rock. Josh Whitmer\, a Berklee College of Music and Full Sail University graduate\, commands lead guitar with over 35 years of experience Holding down the low end is Will Willsey\, a self-taught bassist since age 12. On drums\, Tobias Ralph brings world-class skill and expressive power\, having toured with artists including Nena\, Chaka Khan\, and Duncan Sheik. A Berklee College of Music alum and Buddy Rich Memorial Scholarship recipient\, his playing anchors Aquarius with the drive and spirit that defined the ’60s sound. \nBuy Tickets \nAll ages welcome. No outside food and drink. Full bar and plentiful free parking onsite. Come see why the Courthouse has won #1 Live Music Venue three years running across 2023\, 2024\, and 2025!
URL:https://courthousearts.org/event/aquarius-60s/
LOCATION:Courthouse Center for the Arts\, 3481 Kingstown Rd\, West Kingston\, RI\, 02892\, United States
CATEGORIES:1960's Rock & Roll,BEST MUSIC IN RHODE ISLAND,BEST MUSIC VENUE,Concert South Kingstown,CONCERTS LIVE,DANCING,GREAT MUSIC LIVE,Guitar,LIVE BAND,LIVE BANDS and DANCE FLOORS,LIVE CONCERTS,LIVE CONCERTS S. Kingstown,Live Concerts South Kingstown RI,LIVE MUSIC,LIVE MUSIC DANCE FLOORS,LIVE MUSIC DANCING,LIVE MUSIC RI,LIVE MUSIC SOUTHERN RI,OVER 50 RHODE ISLAND TO DO,RHODE ISLAND TO DO,RI CONCERTS,RI CONCERTS LIVE,RI Live Concerts,South Kingstown Events,South Kingstown Live Events,What To Do in Rhode Island,What to do South Kingstown,What to Do this weekend,What's Going On IN RI
ATTACH;FMTTYPE=image/jpeg:https://courthousearts.org/wp-content/uploads/2026-4-10-Aquarius-475-x-360-px-FS-CCA.jpg
END:VEVENT
END:VCALENDAR