BEGIN:VCALENDAR
VERSION:2.0
PRODID:-//Courthouse Center For The Arts | Southern RI&#039;s Theatre, Live Music, Arts and More! - ECPv6.15.20//NONSGML v1.0//EN
CALSCALE:GREGORIAN
METHOD:PUBLISH
X-WR-CALNAME:Courthouse Center For The Arts | Southern RI&#039;s Theatre, Live Music, Arts and More!
X-ORIGINAL-URL:https://courthousearts.org
X-WR-CALDESC:Events for Courthouse Center For The Arts | Southern RI&#039;s Theatre, Live Music, Arts and More!
REFRESH-INTERVAL;VALUE=DURATION:PT1H
X-Robots-Tag:noindex
X-PUBLISHED-TTL:PT1H
BEGIN:VTIMEZONE
TZID:America/New_York
BEGIN:DAYLIGHT
TZOFFSETFROM:-0500
TZOFFSETTO:-0400
TZNAME:EDT
DTSTART:20250309T070000
END:DAYLIGHT
BEGIN:STANDARD
TZOFFSETFROM:-0400
TZOFFSETTO:-0500
TZNAME:EST
DTSTART:20251102T060000
END:STANDARD
BEGIN:DAYLIGHT
TZOFFSETFROM:-0500
TZOFFSETTO:-0400
TZNAME:EDT
DTSTART:20260308T070000
END:DAYLIGHT
BEGIN:STANDARD
TZOFFSETFROM:-0400
TZOFFSETTO:-0500
TZNAME:EST
DTSTART:20261101T060000
END:STANDARD
BEGIN:DAYLIGHT
TZOFFSETFROM:-0500
TZOFFSETTO:-0400
TZNAME:EDT
DTSTART:20270314T070000
END:DAYLIGHT
BEGIN:STANDARD
TZOFFSETFROM:-0400
TZOFFSETTO:-0500
TZNAME:EST
DTSTART:20271107T060000
END:STANDARD
END:VTIMEZONE
BEGIN:VEVENT
DTSTART;TZID=America/New_York:20260501T190000
DTEND;TZID=America/New_York:20260501T213000
DTSTAMP:20260421T132736
CREATED:20260203T175756Z
LAST-MODIFIED:20260212T205046Z
UID:10193-1777662000-1777671000@courthousearts.org
SUMMARY:ELVIS - Dan Fontaine & Memphis Sun Mafia Band 5/1/26 FRI 7PM
DESCRIPTION:Dan Fontaine’s award-winning Elvis tribute will Jailhouse Rock your world and prove you simply Can’t Help Falling in Love with every electrifying moment. With a stage presence that banishes any Suspicious Minds and ignites a Burning Love for the music\, Dan delivers a show that spans Elvis’s career—from his early hits with Sun Records to his legendary Vegas performances. Backed by his powerhouse band Memphis Sun Mafia\, Fontaine channels Elvis with uncanny vocals and hip-shaking swagger that bring the King’s magic to life! \nHailing from Massachusetts and inspired by Elvis at 16\, Dan has honed his craft across New England and beyond\, achieving top honors in national and international competitions\, including a 2024 Georgia Tribute Festival win and the 2021 Grand Champion title at Reflections of the King. Reserve your tickets now and experience Elvis’s timeless magic like never before! \nBuy Tickets \nAll ages. No outside food & drink. Full bar and plentiful free parking onsite. Come see why the Courthouse has won #1 Live Music Venue three years running across 2023\, 2024\, and 2025!
URL:https://courthousearts.org/event/elvis-dan-fontaine-memphis-sun-mafia-band-5-1-26-fri-7pm/
LOCATION:Courthouse Center for the Arts\, 3481 Kingstown Rd\, West Kingston\, RI\, 02892\, United States
CATEGORIES:BEST MUSIC IN RHODE ISLAND,BEST MUSIC VENUE,Concert South Kingstown,CONCERTS LIVE,Dance Floors,DANCING,Elvis,GREAT MUSIC LIVE,Guitar,LIVE BAND,LIVE BANDS and DANCE FLOORS,LIVE CONCERTS,LIVE CONCERTS S. Kingstown,Live Concerts South Kingstown RI,LIVE MUSIC,LIVE MUSIC DANCE FLOORS,LIVE MUSIC DANCING,LIVE MUSIC RI,LIVE MUSIC SOUTHERN RI,OVER 50 RHODE ISLAND TO DO,RHODE ISLAND TO DO,RI CONCERTS,RI CONCERTS LIVE,RI Live Concerts,South Kingstown Events,South Kingstown Live Events,What To Do in Rhode Island,What to do South Kingstown,What to Do this weekend,What's Going On IN RI
ATTACH;FMTTYPE=image/jpeg:https://courthousearts.org/wp-content/uploads/2026-5-1-Elvis-FSCCA-475-x-360-px-1.jpg
END:VEVENT
BEGIN:VEVENT
DTSTART;TZID=America/New_York:20260507T130000
DTEND;TZID=America/New_York:20260507T153000
DTSTAMP:20260421T132736
CREATED:20260303T194650Z
LAST-MODIFIED:20260303T195110Z
UID:10287-1778158800-1778167800@courthousearts.org
SUMMARY:Frank Sinatra - Rich DiMare & Ron Poster Trio  5/7/26 THU 1pm
DESCRIPTION:“A Sinatra Spectacular” is coming to The Courthouse with all your favorites\, like Frank’s iconic beloved songs  “My Way” & “New York\, New York”\, performed by Rich DiMare and The Ron Poster Trio. \nRich DiMare is an American singer who specializes in the Frank Sinatra songbook and has 20 years experience providing entertainment across the country. Rich spent 15 years live on-air at Boston’s highest rated morning show\, KISS 108’s Matty in the Morning\, and as a host on Boston’s Fox25 TV. Because of this experience in media and music\, Rich is a seasoned showman. \nRon Poster is a Boston based pianist and keyboard artist who specializes in Popular & Classic American music as a soloist and with small groups. He’s been the organist for the Boston Bruins at TD Garden since 2001 and also toured in the 90’s and early 2000’s with the band Missing Persons. \nRich and Ron’s understanding of the Sinatra songbook\, coupled with their interactions on stage makes this “Ol’ Blue Eyes” experience something Rat Pack lovers will never forget! \nBuy Tickets \nAll ages. No outside food & drink. Full bar & plentiful free parking onsite. Come see why the Courthouse has won #1 Live Music Venue three years running across 2023\, 2024\, and 2025!
URL:https://courthousearts.org/event/10287/
LOCATION:Courthouse Center for the Arts\, 3481 Kingstown Rd\, West Kingston\, RI\, 02892\, United States
CATEGORIES:BEST MUSIC IN RHODE ISLAND,BEST MUSIC VENUE,Concert South Kingstown,CONCERTS LIVE,Dance Floors,GREAT MUSIC LIVE,LIVE BAND,LIVE BANDS and DANCE FLOORS,LIVE CONCERTS,LIVE CONCERTS S. Kingstown,Live Concerts South Kingstown RI,LIVE MUSIC,LIVE MUSIC DANCE FLOORS,LIVE MUSIC DANCING,LIVE MUSIC RI,LIVE MUSIC SOUTHERN RI,LIVE THEATER,OVER 50 RHODE ISLAND TO DO,RHODE ISLAND TO DO,RI CONCERTS,RI CONCERTS LIVE,RI Live Concerts,South Kingstown Events,South Kingstown Live Events,What To Do in Rhode Island,What to do South Kingstown,What to Do this weekend,What's Going On IN RI
ATTACH;FMTTYPE=image/jpeg:https://courthousearts.org/wp-content/uploads/2026-5-7-Day-of-Sinatra-475-x-360-px-FS-CCA.jpg
END:VEVENT
BEGIN:VEVENT
DTSTART;TZID=America/New_York:20260516T190000
DTEND;TZID=America/New_York:20260516T213000
DTSTAMP:20260421T132736
CREATED:20260327T174541Z
LAST-MODIFIED:20260327T174541Z
UID:10384-1778958000-1778967000@courthousearts.org
SUMMARY:BRUCE SPRINGSTEEN – Alex Shillo & Badlands 5/16/26 7:00PM
DESCRIPTION:Shift into gear and tear down Thunder Road as Alex Shillo and his band Badlands bring the thunder and the blue-collar soul of New Jersey straight to the stage. They’re Born to Run and ready to ignite every Hungry Heart in the room. Don’t settle for a Brilliant Disguise\, if you’ve been Dancing in the Dark waiting for the real deal\, your search ends here. Badlands floors the gas and tears down the highway toward one destination: the Promised Land. \nFor Alex Shillo\, this level of musicianship is in his blood. He honed his road-tested energy touring with Silverado\, the powerhouse band founded by his father\, Carl Shillo\, that’s opened for legends like The Marshall Tucker Band and The Outlaws. Alex pours that world-class musicianship and authentic grit into performances that prove that the Glory Days aren’t just a memory\, they’re happening right here\, right now. Tickets are moving fast\, so grab yours now before the Tenth Avenue Freeze-Out begins! \nBuy Tickets \nAll ages. No outside food & drink. Full bar & plentiful free parking onsite. Come see why the Courthouse has won #1 Live Music Venue three years running across 2023\, 2024\, and 2025!
URL:https://courthousearts.org/event/bruce-springsteen-alex-shillo-badlands-5-16-26-700pm/
LOCATION:Courthouse Center for the Arts\, 3481 Kingstown Rd\, West Kingston\, RI\, 02892\, United States
CATEGORIES:70's 80's ROCK & ROLL,BEST MUSIC IN RHODE ISLAND,BEST MUSIC VENUE,Concert South Kingstown,CONCERTS LIVE,Dance Floors,GREAT MUSIC LIVE,Guitar,LIVE BAND,LIVE BANDS and DANCE FLOORS,LIVE CONCERTS,LIVE CONCERTS S. Kingstown,Live Concerts South Kingstown RI,LIVE MUSIC,LIVE MUSIC DANCE FLOORS,LIVE MUSIC DANCING,LIVE MUSIC RI,LIVE MUSIC SOUTHERN RI,OVER 50 RHODE ISLAND TO DO,RHODE ISLAND TO DO,RI CONCERTS,RI CONCERTS LIVE,RI Live Concerts,South Kingstown Events,South Kingstown Live Events,What To Do in Rhode Island,What to do South Kingstown,What to Do this weekend,What's Going On IN RI
ATTACH;FMTTYPE=image/jpeg:https://courthousearts.org/wp-content/uploads/BRUCE-SPRINGSTEEN-475-x-360-px.jpg
END:VEVENT
BEGIN:VEVENT
DTSTART;TZID=America/New_York:20260529T193000
DTEND;TZID=America/New_York:20260529T220000
DTSTAMP:20260421T132736
CREATED:20251223T185747Z
LAST-MODIFIED:20251223T185747Z
UID:10075-1780083000-1780092000@courthousearts.org
SUMMARY:Tom Petty - Refugee 5/29/26 FRI 7:30PM
DESCRIPTION:“Free Fallin’\,” “American Girl\,” “Runnin’ Down a Dream\,” and more—Refugee brings the music of Tom Petty and the Heartbreakers to life with passion and precision. Formed in 2014 by six seasoned New York musicians\, Refugee has become one of the nation’s top touring tributes\, honoring Petty’s legacy with an authentic\, high-energy performance. Experience the timeless hits\, deep cuts\, and fan favorites—this is a tribute you have to see to believe! \nBuy Tickets \nAll ages. No outside food & drink. Full bar and plentiful free parking onsite. Come see why the Courthouse has won #1 Live Music Venue three years running!
URL:https://courthousearts.org/event/tom-petty-refugee-5-29-26-fri-730pm/
LOCATION:Courthouse Center for the Arts\, 3481 Kingstown Rd\, West Kingston\, RI\, 02892\, United States
CATEGORIES:70's 80's ROCK & ROLL,BEST MUSIC IN RHODE ISLAND,BEST MUSIC VENUE,Concert South Kingstown,CONCERTS LIVE,Dance Floors,GREAT MUSIC LIVE,HEAVY ROCK and ROLL,LIVE BAND,LIVE BANDS and DANCE FLOORS,LIVE CONCERTS,LIVE CONCERTS S. Kingstown,Live Concerts South Kingstown RI,LIVE MUSIC,LIVE MUSIC DANCE FLOORS,LIVE MUSIC DANCING,LIVE MUSIC RI,LIVE MUSIC SOUTHERN RI,OVER 50 RHODE ISLAND TO DO,RHODE ISLAND TO DO,RI CONCERTS,RI CONCERTS LIVE,RI Live Concerts,South Kingstown Events,South Kingstown Live Events,Tom Petty,What To Do in Rhode Island,What to do South Kingstown,What to Do this weekend,What's Going On IN RI
ATTACH;FMTTYPE=image/jpeg:https://courthousearts.org/wp-content/uploads/2026-5-29-Tom-Petty-Refugee-1200-x-500-px.jpg
END:VEVENT
BEGIN:VEVENT
DTSTART;TZID=America/New_York:20260605T190000
DTEND;TZID=America/New_York:20260605T213000
DTSTAMP:20260421T132736
CREATED:20250213T081557Z
LAST-MODIFIED:20251113T143715Z
UID:8404-1780686000-1780695000@courthousearts.org
SUMMARY:The Country Jamboree - Classic Country Music Celebration 6/5/26 FRI 7:00pm
DESCRIPTION:The Country Jamboree — a show that transports you back to the golden age of country music. Featuring an exceptional cast of talented musicians—each with experience performing alongside some of country’s biggest stars—this performance celebrates the timeless hits of legends like Hank Williams\, Patsy Cline\, Johnny Cash\, Tammy Wynette\, Willie Nelson\, Loretta Lynn\, Merle Haggard\, and more. \nMuch like a night at The Grand Ole Opry\, The Country Jamboree delivers the full range of classic country sounds\, from energetic hoedowns to heartfelt ballads. This show captures the essence of country music’s greatest hits\, taking you on a journey through decades of beloved songs and stories. Audiences across the nation and beyond have been brought to their feet by this remarkable performance. \nBuy Tickets \n\nAll ages. No outside food & drink. Full bar and plentiful free parking onsite.  Come see why the Courthouse has won #1 Live Music Venue three years running across 2023\, 2024\, and 2025! 
URL:https://courthousearts.org/event/the-country-jamboree-classic-country-music-celebration-06-05-2026-1900/
LOCATION:Courthouse Center for the Arts\, 3481 Kingstown Rd\, West Kingston\, RI\, 02892\, United States
CATEGORIES:BEST MUSIC IN RHODE ISLAND,BEST MUSIC VENUE,CONCERTS LIVE,Dance Floors,DANCING,Elvis,LIVE BAND,LIVE BANDS and DANCE FLOORS,LIVE CONCERTS,LIVE MUSIC,LIVE MUSIC DANCE FLOORS,LIVE MUSIC DANCING,LIVE MUSIC RI,LIVE MUSIC SOUTHERN RI,LIVE THEATER,RHODE ISLAND TO DO,RI CONCERTS,RI CONCERTS LIVE
ATTACH;FMTTYPE=image/png:https://courthousearts.org/wp-content/uploads/2026-6-5-THE-COUNTRY-JAMBOREE-475-x-360-px.png
END:VEVENT
END:VCALENDAR