BEGIN:VCALENDAR
VERSION:2.0
PRODID:-//Courthouse Center For The Arts | Southern RI&#039;s Theatre, Live Music, Arts and More! - ECPv6.15.20//NONSGML v1.0//EN
CALSCALE:GREGORIAN
METHOD:PUBLISH
X-WR-CALNAME:Courthouse Center For The Arts | Southern RI&#039;s Theatre, Live Music, Arts and More!
X-ORIGINAL-URL:https://courthousearts.org
X-WR-CALDESC:Events for Courthouse Center For The Arts | Southern RI&#039;s Theatre, Live Music, Arts and More!
REFRESH-INTERVAL;VALUE=DURATION:PT1H
X-Robots-Tag:noindex
X-PUBLISHED-TTL:PT1H
BEGIN:VTIMEZONE
TZID:America/New_York
BEGIN:DAYLIGHT
TZOFFSETFROM:-0500
TZOFFSETTO:-0400
TZNAME:EDT
DTSTART:20250309T070000
END:DAYLIGHT
BEGIN:STANDARD
TZOFFSETFROM:-0400
TZOFFSETTO:-0500
TZNAME:EST
DTSTART:20251102T060000
END:STANDARD
BEGIN:DAYLIGHT
TZOFFSETFROM:-0500
TZOFFSETTO:-0400
TZNAME:EDT
DTSTART:20260308T070000
END:DAYLIGHT
BEGIN:STANDARD
TZOFFSETFROM:-0400
TZOFFSETTO:-0500
TZNAME:EST
DTSTART:20261101T060000
END:STANDARD
BEGIN:DAYLIGHT
TZOFFSETFROM:-0500
TZOFFSETTO:-0400
TZNAME:EDT
DTSTART:20270314T070000
END:DAYLIGHT
BEGIN:STANDARD
TZOFFSETFROM:-0400
TZOFFSETTO:-0500
TZNAME:EST
DTSTART:20271107T060000
END:STANDARD
END:VTIMEZONE
BEGIN:VEVENT
DTSTART;TZID=America/New_York:20260326T133000
DTEND;TZID=America/New_York:20260326T160000
DTSTAMP:20260421T145246
CREATED:20260130T180137Z
LAST-MODIFIED:20260212T205150Z
UID:10168-1774531800-1774540800@courthousearts.org
SUMMARY:ELVIS - Award Winning Dan Fontaine - 3/26/26 THU 1:30pm
DESCRIPTION:Dan Fontaine’s award-winning Elvis tribute will Jailhouse Rock your world and prove you simply Can’t Help Falling in Love with every electrifying moment. With a stage presence that banishes any Suspicious Minds\, ignites a Burning Love\, and makes you feel All Shook Up on your way to Heartbreak Hotel or a night of Viva Las Vegas thrills\, Dan delivers a show that spans Elvis’s career — from his early hits with Sun Records to his legendary Vegas performances. \nHailing from Massachusetts and inspired by Elvis at 16\, Dan has honed his craft across New England and beyond\, achieving top honors in national and international competitions\, including a 2024 Georgia Tribute Festival win and the 2021 Grand Champion title at Reflections of the King. Reserve your tickets now and experience Elvis’s timeless magic like never before! \nBuy Tickets \nAll ages. No outside food & drink. Full bar and plentiful free parking onsite. Come see why the Courthouse has won #1 Live Music Venue three years running across 2023\, 2024\, and 2025!
URL:https://courthousearts.org/event/elvis-award-winning-dan-fontaine-3-26-26-thu-130pm/
LOCATION:Courthouse Center for the Arts\, 3481 Kingstown Rd\, West Kingston\, RI\, 02892\, United States
CATEGORIES:BEST MUSIC IN RHODE ISLAND,BEST MUSIC VENUE,Concert South Kingstown,CONCERTS LIVE,DANCING,Elvis,GREAT MUSIC LIVE,LIVE BAND,LIVE BANDS and DANCE FLOORS,LIVE CONCERTS,LIVE CONCERTS S. Kingstown,Live Concerts South Kingstown RI,LIVE MUSIC,LIVE MUSIC DANCE FLOORS,LIVE MUSIC DANCING,LIVE MUSIC RI,LIVE MUSIC SOUTHERN RI,OVER 50 RHODE ISLAND TO DO,RHODE ISLAND TO DO,RI CONCERTS,RI CONCERTS LIVE,RI Live Concerts,South Kingstown Events,South Kingstown Live Events,What To Do in Rhode Island,What to do South Kingstown,What's Going On IN RI
ATTACH;FMTTYPE=image/jpeg:https://courthousearts.org/wp-content/uploads/2026-3-26-Elvis-FSCCA-475-x-360-px.jpg
END:VEVENT
END:VCALENDAR