BEGIN:VCALENDAR
VERSION:2.0
PRODID:-//Courthouse Center For The Arts | Southern RI&#039;s Theatre, Live Music, Arts and More! - ECPv6.15.20//NONSGML v1.0//EN
CALSCALE:GREGORIAN
METHOD:PUBLISH
X-ORIGINAL-URL:https://courthousearts.org
X-WR-CALDESC:Events for Courthouse Center For The Arts | Southern RI&#039;s Theatre, Live Music, Arts and More!
REFRESH-INTERVAL;VALUE=DURATION:PT1H
X-Robots-Tag:noindex
X-PUBLISHED-TTL:PT1H
BEGIN:VTIMEZONE
TZID:America/New_York
BEGIN:DAYLIGHT
TZOFFSETFROM:-0500
TZOFFSETTO:-0400
TZNAME:EDT
DTSTART:20250309T070000
END:DAYLIGHT
BEGIN:STANDARD
TZOFFSETFROM:-0400
TZOFFSETTO:-0500
TZNAME:EST
DTSTART:20251102T060000
END:STANDARD
BEGIN:DAYLIGHT
TZOFFSETFROM:-0500
TZOFFSETTO:-0400
TZNAME:EDT
DTSTART:20260308T070000
END:DAYLIGHT
BEGIN:STANDARD
TZOFFSETFROM:-0400
TZOFFSETTO:-0500
TZNAME:EST
DTSTART:20261101T060000
END:STANDARD
BEGIN:DAYLIGHT
TZOFFSETFROM:-0500
TZOFFSETTO:-0400
TZNAME:EDT
DTSTART:20270314T070000
END:DAYLIGHT
BEGIN:STANDARD
TZOFFSETFROM:-0400
TZOFFSETTO:-0500
TZNAME:EST
DTSTART:20271107T060000
END:STANDARD
END:VTIMEZONE
BEGIN:VEVENT
DTSTART;TZID=America/New_York:20260501T190000
DTEND;TZID=America/New_York:20260501T213000
DTSTAMP:20260421T132608
CREATED:20260203T175756Z
LAST-MODIFIED:20260212T205046Z
UID:10193-1777662000-1777671000@courthousearts.org
SUMMARY:ELVIS - Dan Fontaine & Memphis Sun Mafia Band 5/1/26 FRI 7PM
DESCRIPTION:Dan Fontaine’s award-winning Elvis tribute will Jailhouse Rock your world and prove you simply Can’t Help Falling in Love with every electrifying moment. With a stage presence that banishes any Suspicious Minds and ignites a Burning Love for the music\, Dan delivers a show that spans Elvis’s career—from his early hits with Sun Records to his legendary Vegas performances. Backed by his powerhouse band Memphis Sun Mafia\, Fontaine channels Elvis with uncanny vocals and hip-shaking swagger that bring the King’s magic to life! \nHailing from Massachusetts and inspired by Elvis at 16\, Dan has honed his craft across New England and beyond\, achieving top honors in national and international competitions\, including a 2024 Georgia Tribute Festival win and the 2021 Grand Champion title at Reflections of the King. Reserve your tickets now and experience Elvis’s timeless magic like never before! \nBuy Tickets \nAll ages. No outside food & drink. Full bar and plentiful free parking onsite. Come see why the Courthouse has won #1 Live Music Venue three years running across 2023\, 2024\, and 2025!
URL:https://courthousearts.org/event/elvis-dan-fontaine-memphis-sun-mafia-band-5-1-26-fri-7pm/
LOCATION:Courthouse Center for the Arts\, 3481 Kingstown Rd\, West Kingston\, RI\, 02892\, United States
CATEGORIES:BEST MUSIC IN RHODE ISLAND,BEST MUSIC VENUE,Concert South Kingstown,CONCERTS LIVE,Dance Floors,DANCING,Elvis,GREAT MUSIC LIVE,Guitar,LIVE BAND,LIVE BANDS and DANCE FLOORS,LIVE CONCERTS,LIVE CONCERTS S. Kingstown,Live Concerts South Kingstown RI,LIVE MUSIC,LIVE MUSIC DANCE FLOORS,LIVE MUSIC DANCING,LIVE MUSIC RI,LIVE MUSIC SOUTHERN RI,OVER 50 RHODE ISLAND TO DO,RHODE ISLAND TO DO,RI CONCERTS,RI CONCERTS LIVE,RI Live Concerts,South Kingstown Events,South Kingstown Live Events,What To Do in Rhode Island,What to do South Kingstown,What to Do this weekend,What's Going On IN RI
ATTACH;FMTTYPE=image/jpeg:https://courthousearts.org/wp-content/uploads/2026-5-1-Elvis-FSCCA-475-x-360-px-1.jpg
END:VEVENT
BEGIN:VEVENT
DTSTART;TZID=America/New_York:20260605T190000
DTEND;TZID=America/New_York:20260605T213000
DTSTAMP:20260421T132608
CREATED:20250213T081557Z
LAST-MODIFIED:20251113T143715Z
UID:8404-1780686000-1780695000@courthousearts.org
SUMMARY:The Country Jamboree - Classic Country Music Celebration 6/5/26 FRI 7:00pm
DESCRIPTION:The Country Jamboree — a show that transports you back to the golden age of country music. Featuring an exceptional cast of talented musicians—each with experience performing alongside some of country’s biggest stars—this performance celebrates the timeless hits of legends like Hank Williams\, Patsy Cline\, Johnny Cash\, Tammy Wynette\, Willie Nelson\, Loretta Lynn\, Merle Haggard\, and more. \nMuch like a night at The Grand Ole Opry\, The Country Jamboree delivers the full range of classic country sounds\, from energetic hoedowns to heartfelt ballads. This show captures the essence of country music’s greatest hits\, taking you on a journey through decades of beloved songs and stories. Audiences across the nation and beyond have been brought to their feet by this remarkable performance. \nBuy Tickets \n\nAll ages. No outside food & drink. Full bar and plentiful free parking onsite.  Come see why the Courthouse has won #1 Live Music Venue three years running across 2023\, 2024\, and 2025! 
URL:https://courthousearts.org/event/the-country-jamboree-classic-country-music-celebration-06-05-2026-1900/
LOCATION:Courthouse Center for the Arts\, 3481 Kingstown Rd\, West Kingston\, RI\, 02892\, United States
CATEGORIES:BEST MUSIC IN RHODE ISLAND,BEST MUSIC VENUE,CONCERTS LIVE,Dance Floors,DANCING,Elvis,LIVE BAND,LIVE BANDS and DANCE FLOORS,LIVE CONCERTS,LIVE MUSIC,LIVE MUSIC DANCE FLOORS,LIVE MUSIC DANCING,LIVE MUSIC RI,LIVE MUSIC SOUTHERN RI,LIVE THEATER,RHODE ISLAND TO DO,RI CONCERTS,RI CONCERTS LIVE
ATTACH;FMTTYPE=image/png:https://courthousearts.org/wp-content/uploads/2026-6-5-THE-COUNTRY-JAMBOREE-475-x-360-px.png
END:VEVENT
BEGIN:VEVENT
DTSTART;TZID=America/New_York:20260618T133000
DTEND;TZID=America/New_York:20260618T160000
DTSTAMP:20260421T132608
CREATED:20260313T063211Z
LAST-MODIFIED:20260313T160613Z
UID:10322-1781789400-1781798400@courthousearts.org
SUMMARY:ELVIS - Award Winning Dan Fontaine - 6/18/26 THU 1:30PM
DESCRIPTION:Dan Fontaine’s award-winning Elvis tribute will Jailhouse Rock your world and prove you simply Can’t Help Falling in Love with every electrifying moment. With a stage presence that banishes any Suspicious Minds\, ignites a Burning Love\, and makes you feel All Shook Up on your way to Heartbreak Hotel or a night of Viva Las Vegas thrills\, Dan delivers a show that spans Elvis’s career — from his early hits with Sun Records to his legendary Vegas performances. \nHailing from Massachusetts and inspired by Elvis at 16\, Dan has honed his craft across New England and beyond\, achieving top honors in national and international competitions\, including a 2024 Georgia Tribute Festival win and the 2021 Grand Champion title at Reflections of the King. Reserve your tickets now and experience Elvis’s timeless magic like never before!. \nBuy Tickets \nAll ages. No outside food & drink. Full bar and plentiful free parking onsite.  Come see why the Courthouse has won #1 Live Music Venue three years running across 2023\, 2024\, and 2025! 
URL:https://courthousearts.org/event/elvis-award-winning-dan-fontaine-6-18-26-thu-130pm/
LOCATION:Courthouse Center for the Arts\, 3481 Kingstown Rd\, West Kingston\, RI\, 02892\, United States
CATEGORIES:BEST MUSIC IN RHODE ISLAND,BEST MUSIC VENUE,Concert South Kingstown,CONCERTS LIVE,Dance Floors,DANCING,Elvis,GREAT MUSIC LIVE,LIVE CONCERTS,LIVE CONCERTS S. Kingstown,Live Concerts South Kingstown RI,LIVE MUSIC,LIVE MUSIC DANCE FLOORS,LIVE MUSIC DANCING,LIVE MUSIC RI,LIVE MUSIC SOUTHERN RI,OVER 50 RHODE ISLAND TO DO,RHODE ISLAND TO DO,RI CONCERTS,RI CONCERTS LIVE,RI Live Concerts,South Kingstown Events,South Kingstown Live Events,What To Do in Rhode Island,What to do South Kingstown,What's Going On IN RI
ATTACH;FMTTYPE=image/jpeg:https://courthousearts.org/wp-content/uploads/2026-6-18-Elvis-FSCCA-475-x-360-px.jpeg
END:VEVENT
BEGIN:VEVENT
DTSTART;TZID=America/New_York:20260717T190000
DTEND;TZID=America/New_York:20260717T213000
DTSTAMP:20260421T132608
CREATED:20260305T195035Z
LAST-MODIFIED:20260305T195035Z
UID:10312-1784314800-1784323800@courthousearts.org
SUMMARY:ELVIS - Dan Fontaine & Memphis Sun Mafia Band 7/17/26 FRI 7PM
DESCRIPTION:Dan Fontaine’s award-winning Elvis tribute will Jailhouse Rock your world and prove you simply Can’t Help Falling in Love with every electrifying moment. With a stage presence that banishes any Suspicious Minds and ignites a Burning Love for the music\, Dan delivers a show that spans Elvis’s career—from his early hits with Sun Records to his legendary Vegas performances. Backed by his powerhouse band Memphis Sun Mafia\, Fontaine channels Elvis with uncanny vocals and hip-shaking swagger that bring the King’s magic to life! \nHailing from Massachusetts and inspired by Elvis at 16\, Dan has honed his craft across New England and beyond\, achieving top honors in national and international competitions\, including a 2024 Georgia Tribute Festival win and the 2021 Grand Champion title at Reflections of the King. Reserve your tickets now and experience Elvis’s timeless magic like never before! \nBuy Tickets \nAll ages. No outside food & drink. Full bar and plentiful free parking onsite. Come see why the Courthouse has won #1 Live Music Venue three years running across 2023\, 2024\, and 2025!
URL:https://courthousearts.org/event/elvis-dan-fontaine-memphis-sun-mafia-band-7-17-26-fri-7pm/
LOCATION:Courthouse Center for the Arts\, 3481 Kingstown Rd\, West Kingston\, RI\, 02892\, United States
CATEGORIES:BEST MUSIC IN RHODE ISLAND,BEST MUSIC VENUE,Concert South Kingstown,CONCERTS LIVE,Dance Floors,DANCING,Elvis,GREAT MUSIC LIVE,Guitar,LIVE BAND,LIVE BANDS and DANCE FLOORS,LIVE CONCERTS,LIVE CONCERTS S. Kingstown,Live Concerts South Kingstown RI,LIVE MUSIC,LIVE MUSIC DANCE FLOORS,LIVE MUSIC DANCING,LIVE MUSIC RI,LIVE MUSIC SOUTHERN RI,OVER 50 RHODE ISLAND TO DO,RHODE ISLAND TO DO,RI CONCERTS,RI CONCERTS LIVE,RI Live Concerts,South Kingstown Events,South Kingstown Live Events,What To Do in Rhode Island,What to do South Kingstown,What to Do this weekend,What's Going On IN RI
ATTACH;FMTTYPE=image/jpeg:https://courthousearts.org/wp-content/uploads/2026-7-17-Elvis-FSCCA-475-x-360-px.jpg
END:VEVENT
BEGIN:VEVENT
DTSTART;TZID=America/New_York:20260821T133000
DTEND;TZID=America/New_York:20260821T160000
DTSTAMP:20260421T132608
CREATED:20260313T063509Z
LAST-MODIFIED:20260313T162205Z
UID:10326-1787319000-1787328000@courthousearts.org
SUMMARY:ELVIS - Award Winning Dan Fontaine - 8/21/26 FRI 1:30PM
DESCRIPTION:Dan Fontaine’s award-winning Elvis tribute will Jailhouse Rock your world and prove you simply Can’t Help Falling in Love with every electrifying moment. With a stage presence that banishes any Suspicious Minds\, ignites a Burning Love\, and makes you feel All Shook Up on your way to Heartbreak Hotel or a night of Viva Las Vegas thrills\, Dan delivers a show that spans Elvis’s career — from his early hits with Sun Records to his legendary Vegas performances. \nHailing from Massachusetts and inspired by Elvis at 16\, Dan has honed his craft across New England and beyond\, achieving top honors in national and international competitions\, including a 2024 Georgia Tribute Festival win and the 2021 Grand Champion title at Reflections of the King. Reserve your tickets now and experience Elvis’s timeless magic like never before!. \nBuy Tickets \nAll ages. No outside food & drink. Full bar and plentiful free parking onsite.  Come see why the Courthouse has won #1 Live Music Venue three years running across 2023\, 2024\, and 2025! 
URL:https://courthousearts.org/event/elvis-award-winning-dan-fontaine-8-21-26-fri-130pm/
LOCATION:Courthouse Center for the Arts\, 3481 Kingstown Rd\, West Kingston\, RI\, 02892\, United States
CATEGORIES:BEST MUSIC IN RHODE ISLAND,BEST MUSIC VENUE,Concert South Kingstown,CONCERTS LIVE,Dance Floors,DANCING,Elvis,LIVE CONCERTS,LIVE CONCERTS S. Kingstown,Live Concerts South Kingstown RI,LIVE MUSIC,LIVE MUSIC DANCE FLOORS,LIVE MUSIC DANCING,LIVE MUSIC RI,LIVE MUSIC SOUTHERN RI,OVER 50 RHODE ISLAND TO DO,RHODE ISLAND TO DO,RI CONCERTS,RI CONCERTS LIVE,RI Live Concerts,South Kingstown Events,South Kingstown Live Events,What To Do in Rhode Island,What to do South Kingstown,What to Do this weekend,What's Going On IN RI
ATTACH;FMTTYPE=image/jpeg:https://courthousearts.org/wp-content/uploads/2026-8-21-Elvis-FSCCA-475-x-360-px.jpeg
END:VEVENT
END:VCALENDAR