BEGIN:VCALENDAR
VERSION:2.0
PRODID:-//Courthouse Center For The Arts | Southern RI&#039;s Theatre, Live Music, Arts and More! - ECPv6.15.20//NONSGML v1.0//EN
CALSCALE:GREGORIAN
METHOD:PUBLISH
X-WR-CALNAME:Courthouse Center For The Arts | Southern RI&#039;s Theatre, Live Music, Arts and More!
X-ORIGINAL-URL:https://courthousearts.org
X-WR-CALDESC:Events for Courthouse Center For The Arts | Southern RI&#039;s Theatre, Live Music, Arts and More!
REFRESH-INTERVAL;VALUE=DURATION:PT1H
X-Robots-Tag:noindex
X-PUBLISHED-TTL:PT1H
BEGIN:VTIMEZONE
TZID:America/New_York
BEGIN:DAYLIGHT
TZOFFSETFROM:-0500
TZOFFSETTO:-0400
TZNAME:EDT
DTSTART:20250309T070000
END:DAYLIGHT
BEGIN:STANDARD
TZOFFSETFROM:-0400
TZOFFSETTO:-0500
TZNAME:EST
DTSTART:20251102T060000
END:STANDARD
BEGIN:DAYLIGHT
TZOFFSETFROM:-0500
TZOFFSETTO:-0400
TZNAME:EDT
DTSTART:20260308T070000
END:DAYLIGHT
BEGIN:STANDARD
TZOFFSETFROM:-0400
TZOFFSETTO:-0500
TZNAME:EST
DTSTART:20261101T060000
END:STANDARD
BEGIN:DAYLIGHT
TZOFFSETFROM:-0500
TZOFFSETTO:-0400
TZNAME:EDT
DTSTART:20270314T070000
END:DAYLIGHT
BEGIN:STANDARD
TZOFFSETFROM:-0400
TZOFFSETTO:-0500
TZNAME:EST
DTSTART:20271107T060000
END:STANDARD
END:VTIMEZONE
BEGIN:VEVENT
DTSTART;TZID=America/New_York:20260425T193000
DTEND;TZID=America/New_York:20260425T220000
DTSTAMP:20260421T132640
CREATED:20251002T150638Z
LAST-MODIFIED:20251002T150706Z
UID:9675-1777145400-1777154400@courthousearts.org
SUMMARY:Beatles - Beatlemania Again 4/25/26 SAT 7:30PM
DESCRIPTION:Twist and Shout\, grab a Ticket to Ride\, and Come Together for a Hard Day’s Night as Beatlemania Again drops you straight back into the Sixties! Their three-act chronicle runs from Ed Sullivan ’64 through the Sgt. Pepper kaleidoscope to the 1969 Apple rooftop finale\, with multiple costume changes\, multimedia\, and 30+ hits. \nMarty McGowan (John)\, John Aber (Paul)\, Tyler Lindemuth (George)\, and Rich Morello (Ringo) anchor a show that’s toured the U.S. and Canada for 20+ years. Grab your tickets and come see the suits\, the sound\, and the sing-along! \nBuy Tickets \nAll Ages. No outside food and drink. Full bar and plentiful free parking onsite.
URL:https://courthousearts.org/event/beatles-beatlemania-again-4-25-26-sat-730pm/
LOCATION:Courthouse Center for the Arts\, 3481 Kingstown Rd\, West Kingston\, RI\, 02892\, United States
CATEGORIES:70's 80's ROCK & ROLL,BEST MUSIC IN RHODE ISLAND,BEST MUSIC VENUE,LIVE BAND,LIVE BANDS and DANCE FLOORS,LIVE CONCERTS,LIVE MUSIC,LIVE THEATER,RHODE ISLAND TO DO,RI CONCERTS
ATTACH;FMTTYPE=image/jpeg:https://courthousearts.org/wp-content/uploads/2026-4-25-Beatlemania-Again-FSCCA-475-x-360-px.jpg
END:VEVENT
BEGIN:VEVENT
DTSTART;TZID=America/New_York:20260502T193000
DTEND;TZID=America/New_York:20260502T193000
DTSTAMP:20260421T132640
CREATED:20251024T135320Z
LAST-MODIFIED:20251114T153410Z
UID:9808-1777750200-1777750200@courthousearts.org
SUMMARY:Van Halen / Def Leppard — Fair Warning / Love Bites 5/2/26 SAT 7:30PM
DESCRIPTION:If you’re ready to Jump and Dance the Night Away\, this night’s for you! Two legendary tributes share one explosive stage… Love Bites takes a striking Photograph of Def Leppard\, while Fair Warning fires off an Eruption of Van Halen. This show is the ultimate ’80s arena showdown\, like a Rock of Ages in Panama. Come get your tickets before they sell out! \nBuy Tickets \nAll ages. No outside food & drink. Full bar and plentiful free parking onsite. Come see why the Courthouse has won #1 Live Music Venue three years running across 2023\, 2024\, and 2025!
URL:https://courthousearts.org/event/van-halen-def-leppard-fair-warning-love-bites/
LOCATION:Courthouse Center for the Arts\, 3481 Kingstown Rd\, West Kingston\, RI\, 02892\, United States
CATEGORIES:70's 80's ROCK & ROLL,BEST MUSIC IN RHODE ISLAND,BEST MUSIC VENUE,LIVE BAND,LIVE BANDS and DANCE FLOORS,LIVE CONCERTS,LIVE MUSIC,LIVE THEATER,RHODE ISLAND TO DO,RI CONCERTS,Van Halen
ATTACH;FMTTYPE=image/jpeg:https://courthousearts.org/wp-content/uploads/2026-5-2-Van-Halen-Def-Leppard-475-x-360-px-FS-CCA.jpg
END:VEVENT
BEGIN:VEVENT
DTSTART;TZID=America/New_York:20260507T130000
DTEND;TZID=America/New_York:20260507T153000
DTSTAMP:20260421T132640
CREATED:20260303T194650Z
LAST-MODIFIED:20260303T195110Z
UID:10287-1778158800-1778167800@courthousearts.org
SUMMARY:Frank Sinatra - Rich DiMare & Ron Poster Trio  5/7/26 THU 1pm
DESCRIPTION:“A Sinatra Spectacular” is coming to The Courthouse with all your favorites\, like Frank’s iconic beloved songs  “My Way” & “New York\, New York”\, performed by Rich DiMare and The Ron Poster Trio. \nRich DiMare is an American singer who specializes in the Frank Sinatra songbook and has 20 years experience providing entertainment across the country. Rich spent 15 years live on-air at Boston’s highest rated morning show\, KISS 108’s Matty in the Morning\, and as a host on Boston’s Fox25 TV. Because of this experience in media and music\, Rich is a seasoned showman. \nRon Poster is a Boston based pianist and keyboard artist who specializes in Popular & Classic American music as a soloist and with small groups. He’s been the organist for the Boston Bruins at TD Garden since 2001 and also toured in the 90’s and early 2000’s with the band Missing Persons. \nRich and Ron’s understanding of the Sinatra songbook\, coupled with their interactions on stage makes this “Ol’ Blue Eyes” experience something Rat Pack lovers will never forget! \nBuy Tickets \nAll ages. No outside food & drink. Full bar & plentiful free parking onsite. Come see why the Courthouse has won #1 Live Music Venue three years running across 2023\, 2024\, and 2025!
URL:https://courthousearts.org/event/10287/
LOCATION:Courthouse Center for the Arts\, 3481 Kingstown Rd\, West Kingston\, RI\, 02892\, United States
CATEGORIES:BEST MUSIC IN RHODE ISLAND,BEST MUSIC VENUE,Concert South Kingstown,CONCERTS LIVE,Dance Floors,GREAT MUSIC LIVE,LIVE BAND,LIVE BANDS and DANCE FLOORS,LIVE CONCERTS,LIVE CONCERTS S. Kingstown,Live Concerts South Kingstown RI,LIVE MUSIC,LIVE MUSIC DANCE FLOORS,LIVE MUSIC DANCING,LIVE MUSIC RI,LIVE MUSIC SOUTHERN RI,LIVE THEATER,OVER 50 RHODE ISLAND TO DO,RHODE ISLAND TO DO,RI CONCERTS,RI CONCERTS LIVE,RI Live Concerts,South Kingstown Events,South Kingstown Live Events,What To Do in Rhode Island,What to do South Kingstown,What to Do this weekend,What's Going On IN RI
ATTACH;FMTTYPE=image/jpeg:https://courthousearts.org/wp-content/uploads/2026-5-7-Day-of-Sinatra-475-x-360-px-FS-CCA.jpg
END:VEVENT
BEGIN:VEVENT
DTSTART;TZID=America/New_York:20260509T193000
DTEND;TZID=America/New_York:20260509T220000
DTSTAMP:20260421T132640
CREATED:20251002T160040Z
LAST-MODIFIED:20251002T162106Z
UID:9681-1778355000-1778364000@courthousearts.org
SUMMARY:Led Zeppelin - Houses of the Holy 5/9/26 SAT 7:30pm
DESCRIPTION:The Song Remains The Same and although Houses of the Holy are Over The Hills and Far Away\, you can see them like they are right here\, live near The Ocean! There is no Communication Breakdown when we tell you this is the absolute best Led Zeppelin Tribute Band Experience you will ever have.  This band sells out every show here and many more. Grab you tickets now and Ramble On down to the Courthouse for dancing and singing along with the greatest tribute to Led Zeppelin as the lead singer even moves and gives a Whole Lotta Love to the likings of Robert Plant. \nWith over 30 years of combined live performance expertise\, they craft a show that’s a true Stairway to Heaven of musical mastery. Every chord reverberates with the force of When the Levee Breaks\, while their passionate riffs delivers the most authentic live Zeppelin experience possible. Whether you’re a lifelong devotee or new to the legend\, prepare for an immersive rock experience that channels every nuance of the original. \nBuy Tickets \nAll Ages. No outside food & drink. Full bar and plentiful free parking onsite.
URL:https://courthousearts.org/event/led-zeppelin-houses-of-the-holy-5-9-26-sat-730pm/
LOCATION:Courthouse Center for the Arts\, 3481 Kingstown Rd\, West Kingston\, RI\, 02892\, United States
CATEGORIES:70's 80's ROCK & ROLL,BEST MUSIC IN RHODE ISLAND,BEST MUSIC VENUE,LIVE BAND,LIVE BANDS and DANCE FLOORS,LIVE CONCERTS,LIVE MUSIC,LIVE THEATER,RHODE ISLAND TO DO,RI CONCERTS
ATTACH;FMTTYPE=image/jpeg:https://courthousearts.org/wp-content/uploads/2026-5-9-LED-ZEPPELIN-475-x-360-px-FSCCA.jpg
END:VEVENT
BEGIN:VEVENT
DTSTART;TZID=America/New_York:20260515T193000
DTEND;TZID=America/New_York:20260515T220000
DTSTAMP:20260421T132640
CREATED:20250213T082930Z
LAST-MODIFIED:20251113T145357Z
UID:8410-1778873400-1778882400@courthousearts.org
SUMMARY:Van Morrison - Moondance 5/15/26 FRI 7:30pm
DESCRIPTION:Imagine a magical evening at the Courthouse Center for the Arts\, where Van Morrison’s timeless classics echo through the halls\, filling the air with soul and nostalgia. The night opens with Brown Eyed Girl\, the crowd instantly swaying to its joyful rhythm. As the lights dim\, Into the Mystic takes over\, transporting everyone to a dreamlike state with its haunting melody and poetic lyrics. The band delivers an electrifying performance of Moondance\, setting a jazzy\, romantic mood that sweeps across the room. Later\, as Domino energizes the night\, fans are on their feet\, dancing and singing along to the upbeat tempo. The evening crescendos with And It Stoned Me\, creating a moment of pure connection between the audience and the music\, leaving everyone feeling like they’ve witnessed something truly special.  \nA concert for the ages at the Courthouse Center for the Arts\, filled with Van Morrison’s greatest hits\, will be remembered as a night of pure magic. Grab your tickets quickly\, as this show always sells out!  \nBuy Tickets \nAll ages. No outside food & drink. Full bar and plentiful free parking onsite.  Come see why the Courthouse has won #1 Live Music Venue three years running across 2023\, 2024\, and 2025! 
URL:https://courthousearts.org/event/van-morrison-moondance-05-15-2026-1930/
LOCATION:Courthouse Center for the Arts\, 3481 Kingstown Rd\, West Kingston\, RI\, 02892\, United States
CATEGORIES:70's 80's ROCK & ROLL,BEST MUSIC IN RHODE ISLAND,BEST MUSIC VENUE,LIVE BAND,LIVE BANDS and DANCE FLOORS,LIVE CONCERTS,LIVE MUSIC,LIVE THEATER,RHODE ISLAND TO DO,RI CONCERTS
ATTACH;FMTTYPE=image/jpeg:https://courthousearts.org/wp-content/uploads/2026-5-15-Van-Morrison-Moondance-475-x-360-px-FS-CCA.jpg
END:VEVENT
END:VCALENDAR